BEGIN:VCALENDAR
VERSION:2.0
PRODID:-//PopFeeder - ECPv5.0.0.2//NONSGML v1.0//EN
CALSCALE:GREGORIAN
METHOD:PUBLISH
X-WR-CALNAME:PopFeeder
X-ORIGINAL-URL:http://www.popfeeder.com
X-WR-CALDESC:Events for PopFeeder
BEGIN:VTIMEZONE
TZID:America/New_York
BEGIN:DAYLIGHT
TZOFFSETFROM:-0500
TZOFFSETTO:-0400
TZNAME:EDT
DTSTART:20150308T070000
END:DAYLIGHT
BEGIN:STANDARD
TZOFFSETFROM:-0400
TZOFFSETTO:-0500
TZNAME:EST
DTSTART:20151101T060000
END:STANDARD
END:VTIMEZONE
BEGIN:VEVENT
DTSTART;TZID=America/New_York:20151017T230000
DTEND;TZID=America/New_York:20151018T040000
DTSTAMP:20260420T013540
CREATED:20151011T225348Z
LAST-MODIFIED:20151011T225348Z
UID:17948-1445122800-1445140800@www.popfeeder.com
SUMMARY:DJ Pauly D at The Pool
DESCRIPTION:Opening set by DJ Vito G \n
URL:http://www.popfeeder.com/event-calendar/dj-pauly-d-at-the-pool-7/
LOCATION:The Pool at Harrahs\, 777 Harrah's Blvd\, Atlantic City\, NJ\, 08401\, United States
CATEGORIES:The Pool After Dark
ATTACH;FMTTYPE=image/jpeg:http://www.popfeeder.com/wp-content/uploads/2014/03/DJ_Pauly_D-e1448796441931.jpg
END:VEVENT
END:VCALENDAR