BEGIN:VCALENDAR
VERSION:2.0
PRODID:-//PopFeeder - ECPv5.0.0.2//NONSGML v1.0//EN
CALSCALE:GREGORIAN
METHOD:PUBLISH
X-WR-CALNAME:PopFeeder
X-ORIGINAL-URL:http://www.popfeeder.com
X-WR-CALDESC:Events for PopFeeder
BEGIN:VTIMEZONE
TZID:America/New_York
BEGIN:DAYLIGHT
TZOFFSETFROM:-0500
TZOFFSETTO:-0400
TZNAME:EDT
DTSTART:20150308T070000
END:DAYLIGHT
BEGIN:STANDARD
TZOFFSETFROM:-0400
TZOFFSETTO:-0500
TZNAME:EST
DTSTART:20151101T060000
END:STANDARD
END:VTIMEZONE
BEGIN:VEVENT
DTSTART;TZID=America/New_York:20151126T220000
DTEND;TZID=America/New_York:20151127T040000
DTSTAMP:20260423T182801
CREATED:20151129T150356Z
LAST-MODIFIED:20151129T150357Z
UID:18067-1448575200-1448596800@www.popfeeder.com
SUMMARY:Thanksgiving Eve 2015 at Antheme
DESCRIPTION:Let The Holiday Begin With The Best Entertainment in Antheme\nResident DJ’s A Drop & DJ B Lee Accompanied by Live Entertainment and Special Gust DJ’ Menace Cartel \n
URL:http://www.popfeeder.com/event-calendar/thanksgiving-eve-2015-at-antheme/
LOCATION:Anthem\, 2801 Pacific Ave\, Atlantic City\, NJ\, 08401\, United States
CATEGORIES:Anthem
ATTACH;FMTTYPE=image/jpeg:http://www.popfeeder.com/wp-content/uploads/2014/12/Anthem1-e1445163207803.jpeg
END:VEVENT
END:VCALENDAR