BEGIN:VCALENDAR
VERSION:2.0
PRODID:-//PopFeeder - ECPv5.0.0.2//NONSGML v1.0//EN
CALSCALE:GREGORIAN
METHOD:PUBLISH
X-WR-CALNAME:PopFeeder
X-ORIGINAL-URL:http://www.popfeeder.com
X-WR-CALDESC:Events for PopFeeder
BEGIN:VTIMEZONE
TZID:America/New_York
BEGIN:DAYLIGHT
TZOFFSETFROM:-0500
TZOFFSETTO:-0400
TZNAME:EDT
DTSTART:20150308T070000
END:DAYLIGHT
BEGIN:STANDARD
TZOFFSETFROM:-0400
TZOFFSETTO:-0500
TZNAME:EST
DTSTART:20151101T060000
END:STANDARD
END:VTIMEZONE
BEGIN:VEVENT
DTSTART;TZID=America/New_York:20150207T220000
DTEND;TZID=America/New_York:20150208T050000
DTSTAMP:20260424T114549
CREATED:20150201T145355Z
LAST-MODIFIED:20150605T001246Z
UID:8229-1423346400-1423371600@www.popfeeder.com
SUMMARY:The Vamp Room
DESCRIPTION:The sexiest and most elite after hours party returns every Saturday night at Anthem.  The party doesn’t stop until you do. \nTitos bottle service and beer service package specials\, and sweet treats by Bella Dolce. \n
URL:http://www.popfeeder.com/event-calendar/vamp-room/
LOCATION:Anthem\, 2801 Pacific Ave\, Atlantic City\, NJ\, 08401\, United States
CATEGORIES:Anthem
ATTACH;FMTTYPE=image/jpeg:http://www.popfeeder.com/wp-content/uploads/2014/12/Anthem1-e1445163207803.jpeg
END:VEVENT
END:VCALENDAR